BEGIN:VCALENDAR
METHOD:PUBLISH
VERSION:2.0
CALSCALE:GREGORIAN
PRODID:-//NONSGML WPForms//NONSGML Sugar Calendar Feeds v3.11.0//EN
X-WR-CALNAME:Comics Giveaway Day 2026 at Anime & Things!
X-WR-CALDESC:Anime and Things
X-WR-TIMEZONE:America/Chicago
BEGIN:VTIMEZONE
TZID:America/Chicago
BEGIN:STANDARD
TZOFFSETFROM:-0500
TZOFFSETTO:-0600
DTSTART:20251102T070000
TZNAME:CST
END:STANDARD
BEGIN:DAYLIGHT
TZOFFSETFROM:-0600
TZOFFSETTO:-0500
DTSTART:20260308T080000
TZNAME:CDT
END:DAYLIGHT
END:VTIMEZONE
BEGIN:VTIMEZONE
TZID:America/Chicago
BEGIN:STANDARD
TZOFFSETFROM:-0500
TZOFFSETTO:-0600
DTSTART:20251102T070000
TZNAME:CST
END:STANDARD
BEGIN:DAYLIGHT
TZOFFSETFROM:-0600
TZOFFSETTO:-0500
DTSTART:20260308T080000
TZNAME:CDT
END:DAYLIGHT
END:VTIMEZONE
BEGIN:VEVENT
SUMMARY:Comics Giveaway Day 2026 at Anime & Things!
DESCRIPTION:Join us on Saturday\, May 2nd for Comics Giveaway Day™! We
  will be giving out FREE samplers or comics\, 2 per person\, but only wh
 ile supplies last!\n\nCome by early to grab Sonic the Hedgehog\, Spider-
 man\, Avengers\, Power Rangers\, Blue Lock and more! We have comics ava
 ilable for all age ranges! Each Comics Giveaway Day™ title will featur
 e a color-coded logo to indicate age rating: GREEN for All Ages and YELL
 OW for Teen.\n\nPLUS we will also be featuring all our Funko Pop! Vinyl 
 20% off!
URL;VALUE=URI:https://animeandthings.com/events/comics-giveaway-day-2026
 -at-anime-things/
UID:urn:uuid:ef548f4d-8d7a-4292-bb70-10b21b173f8e
STATUS:CONFIRMED
ORGANIZER:
DTSTAMP:20260425T141405Z
DTSTART;VALUE=DATE:20260502
LOCATION:109 E Van Buren St
END:VEVENT
END:VCALENDAR