BEGIN:VCALENDAR
METHOD:PUBLISH
VERSION:2.0
CALSCALE:GREGORIAN
PRODID:-//NONSGML WPForms//NONSGML Sugar Calendar Feeds v3.11.0//EN
X-WR-CALNAME:Witches & Wizards of Woodstock 2025
X-WR-CALDESC:Anime and Things
X-WR-TIMEZONE:America/Chicago
BEGIN:VTIMEZONE
TZID:America/Chicago
BEGIN:DAYLIGHT
TZOFFSETFROM:-0500
TZOFFSETTO:-0500
DTSTART:20250420T000000
TZNAME:CDT
END:DAYLIGHT
END:VTIMEZONE
BEGIN:VTIMEZONE
TZID:America/Chicago
BEGIN:DAYLIGHT
TZOFFSETFROM:-0500
TZOFFSETTO:-0500
DTSTART:20250420T000000
TZNAME:CDT
END:DAYLIGHT
END:VTIMEZONE
BEGIN:VEVENT
SUMMARY:Witches & Wizards of Woodstock 2025
DESCRIPTION:The Hat is Back: Once again the Woodstock Square will be tra
 nsformed into a world of enchantment. There will be new and exciting ev
 ents as the annual fantasy festival returns this fall!\n\nWhile in town 
 for this fun\, family\, event\, be sure to stop by Anime &amp\; Things f
 or the lowest prices on the Square on candy\, drinks\, Pop Vinyl\, Manga
 \, and more!
URL;VALUE=URI:https://animeandthings.com/events/witches-wizards-of-woods
 tock-2025/
UID:urn:uuid:311d00d1-bc8f-48cf-8ebc-3d394112115d
STATUS:CONFIRMED
ORGANIZER:
DTSTAMP:20260421T081427Z
DTSTART;TZID=America/Chicago:20251019T120000
DTEND;TZID=America/Chicago:20251019T160000
LOCATION:109 E Van Buren St
END:VEVENT
END:VCALENDAR